BEGIN:VCALENDAR
VERSION:2.0
CALSCALE:GREGORIAN
METHOD:PUBLISH
PRODID://SVAC//1428185
BEGIN:VEVENT
DTSTAMP:20260423T004906
VTIMEZONE:America/Phoenix
DTSTART:20260508T130000Z
DTEND:20260508T210000Z
UID:1428185
SUMMARY:Spears Summer Classic
LOCATION:Omni Tucson National Resort & Spa, 2727 West Club Drive, Tucson, AZ, 85742
DESCRIPTION:Spears Summer Classic\n\n05/08/26 06:00 AM MT\n - 05/08/26 02:00 PM MT\Description:\nJoin us at OMNI Tucson National for the Spears Summer Classic Benefiting Easterseals Blake Foundation. \nThis is your ticket to play the world class course and enjoy the spectacular views. Your entry includes a light breakfast, lunch, goody bag, & more!\nDon't forget to purchase your raffle tickets and enter for some great prizes. \nYou will enjoy some challenge holes along the way and, of course, the Hole-in-One contest with a chance to win a vehicle from O'Rielly Chevrolet!\nWhen you play in the tournament you not only have a great time, meet some amazing people, but your are supporting your local Easterseals Blake Foundation and the individuals and families we serve in your community.\Details:\nStay and play at Omni Tucson National Resort & Spa.\nJoin us for our annual Spear's Summer Classic golf scramble benefiting Easterseals Blake Foundation. \nEasterseals Blake Foundation serves 10 counties across Arizona including, Cochise County. We are located at 55 S. 5th St. Sierra Vista, AZ. \nYou can register as an individual golfer for $225 or bring your foursome for $900. We also have several sponsorship levels that have extra benefits depending on which sponsorship level you choose. \nIt is a 7:00am tee time and we are playing the popular Catalina PGA Course. \Location:\nOmni Tucson National Resort & Spa\n2727 West Club Drive\nTucson, AZ 85742
X-ALT-DESC;FMTTYPE=text/html:Spears Summer Classic<br /><br />05/08/26 06:00 AM MT - 05/08/26 02:00 PM MT<br />Description:<br />Join us at OMNI Tucson National for the Spears Summer Classic Benefiting Easterseals Blake Foundation.&nbsp;<br />
This is your ticket to play the world class course and enjoy the spectacular views. Your entry includes a light breakfast, lunch, goody bag, &amp; more!<br />
Don't forget to purchase your raffle tickets and enter for some great prizes.&nbsp;<br />
You will enjoy some challenge holes along the way and, of course, the Hole-in-One contest with a chance to win a vehicle from O'Rielly Chevrolet!<br />
When you play in the tournament you not only have a great time, meet some amazing people, but your are supporting your local Easterseals Blake Foundation and the individuals and families we serve in your community.<br />Details:<br />Stay and play at Omni Tucson National Resort &amp; Spa.<br />
Join us for our annual Spear's Summer Classic golf scramble benefiting Easterseals Blake Foundation.&nbsp;<br />
Easterseals Blake Foundation serves 10 counties across Arizona including, Cochise County. We are located at 55 S. 5th St. Sierra Vista, AZ.&nbsp;<br />
You can register as an individual golfer for $225 or bring your foursome for $900. We also have several sponsorship levels that have extra benefits depending on which sponsorship level you choose.&nbsp;<br />
It is a 7:00am tee time and we are playing the popular Catalina PGA Course.&nbsp;<br />Location:<br />Omni Tucson National Resort & Spa<br />2727 West Club Drive<br />Tucson, AZ 85742
PRIORITY:3
TRANSP:TRANSPARENT
BEGIN:VALARM
TRIGGER:-PT5M
ACTION:DISPLAY
DESCRIPTION:Reminder
END:VALARM
END:VEVENT
END:VCALENDAR
