BEGIN:VCALENDAR
VERSION:2.0
CALSCALE:GREGORIAN
METHOD:PUBLISH
PRODID://SVAC//1427943
BEGIN:VEVENT
DTSTAMP:20260422T223951
VTIMEZONE:America/Phoenix
DTSTART:20260714T193000Z
DTEND:20260714T200000Z
UID:1427943
SUMMARY:Quarterly Market Outlook
LOCATION:Microsoft Teams
DESCRIPTION:Quarterly Market Outlook\n\n07/14/26 12:30 PM MT\n - 07/14/26 01:00 PM MT\Description:\nJoin us for a fast-paced, informative session where we break down the latest market trends, economic developments, and what they could mean for your financial strategy. In just 30 minutes, you’ll gain timely insights into key drivers shaping the investment landscape—plus practical takeaways to help you stay informed and confident in your decisions.\n\n\nPresented By: Matt MacLean & Steven Harnden, Private Wealth Advisors\n\nQ&A With: Alan Alpers, Investment Manager\n\nHosted By: Affirm Wealth Advisors\n\nRSVP Requested: To reserve a spot:\n\nRSVP Phone Number: 623.972.3133\n\nRSVP Email: nicole.dimodica@ampf.com\Details:\nThis is an informational seminar. There is no cost or obligation.\n\nNot FDIC or NCUA Insured | No Financial Institution Guarantee | May Lose Value\n\n \n\nSecurities offered by Ameriprise Financial Services, LLC. Member FINRA and SIPC.\n©2026 Ameriprise Financial, Inc. All rights reserved.\n\n \Location:\nMicrosoft Teams\n\n,
X-ALT-DESC;FMTTYPE=text/html:Quarterly Market Outlook<br /><br />07/14/26 12:30 PM MT - 07/14/26 01:00 PM MT<br />Description:<br />Join us for a fast-paced, informative session where we break down the latest market trends, economic developments, and what they could mean for your financial strategy. In just 30 minutes, you&rsquo;ll gain timely insights into key drivers shaping the investment landscape&mdash;plus practical takeaways to help you stay informed and confident in your decisions.<br />
<br />
<br />
<strong>Presented By:</strong> Matt MacLean &amp; Steven Harnden, Private Wealth Advisors<br />
<br />
<strong>Q&amp;A With:</strong> Alan Alpers, Investment Manager<br />
<br />
<strong>Hosted By:</strong> Affirm Wealth Advisors<br />
<br />
<strong>RSVP Requested:</strong> To reserve a spot:<br />
<br />
<strong>RSVP Phone Number:</strong> 623.972.3133<br />
<br />
<strong>RSVP Email: </strong><a href="mailto:nicole.dimodica@ampf.com">nicole.dimodica@ampf.com</a><br />Details:<br /><p>This is an informational seminar. There is no cost or obligation.</p>

<p><strong>Not FDIC or NCUA Insured | No Financial Institution Guarantee | May Lose Value</strong></p>

<p><strong>&nbsp;</strong></p>

<p>Securities offered by Ameriprise Financial Services, LLC. Member FINRA and SIPC.</p>
&copy;2026 Ameriprise Financial, Inc. All rights reserved.<br />
<br />
&nbsp;<br />Location:<br />Microsoft Teams<br /><br />,  
PRIORITY:3
TRANSP:TRANSPARENT
BEGIN:VALARM
TRIGGER:-PT5M
ACTION:DISPLAY
DESCRIPTION:Reminder
END:VALARM
END:VEVENT
END:VCALENDAR
