BEGIN:VCALENDAR
VERSION:2.0
CALSCALE:GREGORIAN
METHOD:PUBLISH
PRODID://SVAC//1411072
BEGIN:VEVENT
DTSTAMP:20260421T042824
VTIMEZONE:America/Phoenix
DTSTART:20261016T000000Z
DTEND:20261016T020000Z
UID:1411072
SUMMARY:Business @ Twilight - Oct 15th
LOCATION:Canyon Vista Medical Center, 5700 E. Highway 90, Sierra Vista, AZ, 85635
DESCRIPTION:Business @ Twilight - Oct 15th\n\n10/15/26 05:00 PM MT\n - 10/15/26 07:00 PM MT\Description:\nBusiness @ Twilight is an excellent opportunity for you to build relationships through networking with your fellow Partnership Members and other local business leaders.\n\nHosted by Canyon Vista Medical Center- Don't miss it!\n\n**REGISTRATION CLOSES 2 DAYS PRIOR TO EVENT!**\n \n\n  Service Animal Policy\n\nTo ensure a safe and comfortable experience for all guests, only certified service dogs trained to assist individuals with disabilities are permitted at this event. Please note that emotional support, therapy animals, or pets are not allowed.\n\nThank you for your understanding and cooperation.\n\Location:\nCanyon Vista Medical Center\n5700 E. Highway 90\nSierra Vista, AZ 85635
X-ALT-DESC;FMTTYPE=text/html:Business @ Twilight - Oct 15th<br /><br />10/15/26 05:00 PM MT - 10/15/26 07:00 PM MT<br />Description:<br /><p data-end="138" data-start="79">Business @ Twilight is an excellent opportunity for you to build relationships through networking with your fellow Partnership Members and other local business leaders.<br />
<br />
Hosted by <strong>Canyon Vista Medical Center</strong>- Don't miss it!</p>

<h3 style="text-align: center;"><strong>**REGISTRATION CLOSES 2 DAYS PRIOR TO EVENT!**</strong></h3>
&nbsp;

<div style="text-align: center;">&nbsp;<span style="background-color:#EE82EE">&nbsp;</span><strong data-end="114" data-start="89" style="text-align:center"><span style="background-color:#EE82EE">Service Animal Policy</span></strong></div>

<p data-end="358" data-start="116" style="text-align: center;">To ensure a safe and comfortable experience for all guests, only certified service dogs trained to assist individuals with disabilities are permitted at this event. Please note that emotional support, therapy animals, or pets are not allowed.</p>

<p data-end="409" data-start="360" style="text-align: center;">Thank you for your understanding and cooperation.</p>
<br />Location:<br />Canyon Vista Medical Center<br />5700 E. Highway 90<br />Sierra Vista, AZ 85635
PRIORITY:3
TRANSP:TRANSPARENT
BEGIN:VALARM
TRIGGER:-PT5M
ACTION:DISPLAY
DESCRIPTION:Reminder
END:VALARM
END:VEVENT
END:VCALENDAR
